BEGIN:VCALENDAR
VERSION:2.0
PRODID:-//eventon.com NONSGML v1.0//EN
CALSCALE:GREGORIAN
METHOD:PUBLISH
BEGIN:VEVENT
UID:69e8a32259a52
DTSTAMP:20260422T102954Z
DTSTART:20260204T230000Z
DTEND:20260205T010000Z
LOCATION:Waterloo Public Square 75 King St S
SUMMARY:Skate Night Date Night
DESCRIPTION:Head to the Waterloo Public Square ice rink from 6 p.m. to 8 p.
 m. and skate along to the amazing tunes spun live by DJ King Kadeem or get 
 warm with treats from the Hissing Goose Coffee Roasters. The first 50 visit
 ors each night at the Hissing Goose Coffee Roasters[..]\nhttps://uptownwate
 rloobia.com/events-dummy/skate-night-date-night-4/var/ri-4.l-L1
URL:https://uptownwaterloobia.com/events-dummy/skate-night-date-night-4/var/ri-4.l-L1
END:VEVENT
END:VCALENDAR