BEGIN:VCALENDAR
VERSION:2.0
PRODID:-//eventon.com NONSGML v1.0//EN
CALSCALE:GREGORIAN
METHOD:PUBLISH
BEGIN:VEVENT
UID:69e8a20922721
DTSTAMP:20260422T102513Z
DTSTART:20260430T230000Z
DTEND:20260501T020000Z
LOCATION:Visitor Information Centre 10 Father David Bauer Dr
SUMMARY:Improv Workshop & Jam
DESCRIPTION:Pinch Arts presents: Improviser\,  director\,  and UWaterloo in
 structor Ben Gorodetsky is offering a 2 hour&nbsp;improv&nbsp;workshop &amp
 ; jam. Improv builds confidence\,  teaches storytelling\,  improves listeni
 ng and collaboration\,  and allows you to be present in the moment. Taking 
 an improv class is like supercharging your creative brain! The 90 minute wo
 rkshop portion[..]\nhttps://uptownwaterloobia.com/events-dummy/improv-works
 hop-jam/var/ri-2.l-L1
URL:https://uptownwaterloobia.com/events-dummy/improv-workshop-jam/var/ri-2.l-L1
END:VEVENT
END:VCALENDAR